BEGIN:VCALENDAR
VERSION:2.0
PRODID:-// - ECPv6.15.18//NONSGML v1.0//EN
CALSCALE:GREGORIAN
METHOD:PUBLISH
X-ORIGINAL-URL:https://saptacollege.ac.ke
X-WR-CALDESC:Events for 
REFRESH-INTERVAL;VALUE=DURATION:PT1H
X-Robots-Tag:noindex
X-PUBLISHED-TTL:PT1H
BEGIN:VTIMEZONE
TZID:Africa/Nairobi
BEGIN:STANDARD
TZOFFSETFROM:+0300
TZOFFSETTO:+0300
TZNAME:EAT
DTSTART:20240101T000000
END:STANDARD
END:VTIMEZONE
BEGIN:VEVENT
DTSTART;TZID=Africa/Nairobi:20250407T173000
DTEND;TZID=Africa/Nairobi:20250831T210000
DTSTAMP:20260420T084137
CREATED:20250330T035351Z
LAST-MODIFIED:20250330T041948Z
UID:3032-1744047000-1756674000@saptacollege.ac.ke
SUMMARY:Certificate in Chemical Dependency & Addiction Counselling.
DESCRIPTION:Equip Yourself to Make a Difference in the Lives of Others\nAre you passionate about helping individuals struggling with addiction and chemical dependency? Enroll in our Certificate in Chemical Dependency & Addiction Counselling and become part of the solution. \nThis transformative 5-month program is designed to equip you with the knowledge\, skills\, and practical tools needed to support people on their journey to recovery. \n\n🗓️ Course Details:\n\n\nStart Date: 7th April 2025 \n\n\nStudy Mode: Online or In-person \n\n\nClass Schedule: Every Monday \n\n\nDuration: 5 months \n\n\nLocation: [Insert location if in-person\, e.g.\, Nairobi or organization address] \n\n\n\n💡 What You’ll Learn:\n\n\nFoundations of chemical dependency and addiction \n\n\nCounselling techniques and intervention strategies \n\n\nThe impact of addiction on individuals\, families\, and society \n\n\nEthical and professional considerations in addiction counselling \n\n\nTreatment planning\, recovery processes\, and relapse prevention \n\n\n\n✅ Why Enroll in This Course?\n\n\nLearn from experienced facilitators and mental health professionals \n\n\nGain real-world skills you can apply in a range of counselling settings \n\n\nBe part of a growing field with high demand for addiction counsellors \n\n\nFlexible learning options to suit your schedule \n\n\nReceive a recognized certificate upon successful completion \n\n\n\n🚀 Limited Seats Available – Enroll Now!\nWhether you’re a professional in mental health\, social work\, or a compassionate individual wanting to support recovery\, this course will empower you to make a meaningful impact. \n📞 Call: 0724 511 709📧 Email: frontdesk@sapta.or.ke \nJoin us and take the first step towards becoming a Certified Addiction Counsellor.
URL:https://saptacollege.ac.ke/event/certificate-in-chemical-dependency-addiction-counselling/
LOCATION:Hybrid\, Nairobi\, Nairobi\, Kenya
CATEGORIES:Diploma
ATTACH;FMTTYPE=image/png:https://saptacollege.ac.ke/wp-content/uploads/2025/03/CHEMICAL-DEPENDENCY.png
ORGANIZER;CN="SAPTA College":MAILTO:frontdesk@sapta.or.ke
END:VEVENT
END:VCALENDAR