BEGIN:VCALENDAR
VERSION:2.0
PRODID:-// - ECPv6.15.18//NONSGML v1.0//EN
CALSCALE:GREGORIAN
METHOD:PUBLISH
X-ORIGINAL-URL:https://saptacollege.ac.ke
X-WR-CALDESC:Events for 
REFRESH-INTERVAL;VALUE=DURATION:PT1H
X-Robots-Tag:noindex
X-PUBLISHED-TTL:PT1H
BEGIN:VTIMEZONE
TZID:UTC
BEGIN:STANDARD
TZOFFSETFROM:+0000
TZOFFSETTO:+0000
TZNAME:UTC
DTSTART:20180101T000000
END:STANDARD
END:VTIMEZONE
BEGIN:VEVENT
DTSTART;TZID=UTC:20190209T080000
DTEND;TZID=UTC:20190209T170000
DTSTAMP:20260420T002113
CREATED:20190108T045552Z
LAST-MODIFIED:20190108T045552Z
UID:1773-1549699200-1549731600@saptacollege.ac.ke
SUMMARY:Start of ICCE Exam preparation  Training
DESCRIPTION:Start of ICCE Exam preparation  Training
URL:https://saptacollege.ac.ke/event/start-of-icce-exam-preparation-training/
END:VEVENT
BEGIN:VEVENT
DTSTART;TZID=UTC:20190204T080000
DTEND;TZID=UTC:20190204T170000
DTSTAMP:20260420T002113
CREATED:20190108T045111Z
LAST-MODIFIED:20190108T045111Z
UID:1769-1549267200-1549299600@saptacollege.ac.ke
SUMMARY:Clinical Supervision for Addiction
DESCRIPTION:Clinical Supervision for Addiction 
URL:https://saptacollege.ac.ke/event/clinical-supervision-for-addiction/
END:VEVENT
BEGIN:VEVENT
DTSTART;VALUE=DATE:20190125
DTEND;VALUE=DATE:20190126
DTSTAMP:20260420T002113
CREATED:20190108T045025Z
LAST-MODIFIED:20190108T045025Z
UID:1767-1548374400-1548460799@saptacollege.ac.ke
SUMMARY:TOT/TOF  in Addiction Counselling
DESCRIPTION:TOT/TOF  in Addiction Counselling
URL:https://saptacollege.ac.ke/event/tot-tof-in-addiction-counselling/
END:VEVENT
BEGIN:VEVENT
DTSTART;TZID=UTC:20190112T080000
DTEND;TZID=UTC:20190112T170000
DTSTAMP:20260420T002113
CREATED:20190108T042738Z
LAST-MODIFIED:20190108T044914Z
UID:1761-1547280000-1547312400@saptacollege.ac.ke
SUMMARY:New class – Diploma
DESCRIPTION:New class – Diploma
URL:https://saptacollege.ac.ke/event/new-class-diploma/
LOCATION:Corner House\, Nairobi\, Kenya
END:VEVENT
END:VCALENDAR